Uber Exif Photo
Make : NIKON CORPORATION
Camera Model Name : NIKON Z 7_2
Software : Adobe Photoshop Lightroom Classic 12.4 (Windows)
Modify Date : 2023:07:29 23:41:10
Exposure Time : 1/80
Exposure Program : Aperture-priority AE
ISO : 100
Sensitivity Type : Recommended Exposure Index
Recommended Exposure Index : 100
Date/Time Original : 2023:07:08 18:02:46
Create Date : 2023:07:08 18:02:46
Shutter Speed Value : 1/80
Exposure Compensation : 0
Metering Mode : Center-weighted average
Light Source : Unknown
Flash : No Flash
Color Space : sRGB
Sensing Method : One-chip color area
Scene Type : Directly photographed
CFA Pattern : [Red,Green][Green,Blue]
Custom Rendered : Custom
Exposure Mode : Auto
White Balance : Auto
Scene Capture Type : Standard
Gain Control : None
Contrast : Normal
Saturation : Normal
Sharpness : Normal
Subject Distance Range : Unknown
Serial Number : 5300207
Lens Info : 0mm f/0
Lens Model : 0.0 mm f/0.0
Profile Description : sRGB IEC61966-2.1
Creator Tool : Adobe Photoshop Lightroom Classic 12.4 (Windows)
Rating : 5
Lens : 0.0 mm f/0.0
Image Number : 4881
Date Created : 2023:07:08 18:02:46.25+02:00
Preserved File Name : DSC_3624_13031.NEF
Format : image/jpeg
Raw File Name : DSC_3624_13031.NEF
Version : 15.4
Process Version : 15.4
Color Temperature : 4750
Tint : +17
Exposure 2012 : 0.00
Contrast 2012 : 0
Highlights 2012 : 0
Shadows 2012 : 0
Whites 2012 : 0
Blacks 2012 : 0
Texture : 0
Clarity 2012 : 0
Dehaze : 0
Vibrance : 0
Parametric Shadows : 0
Parametric Darks : 0
Parametric Lights : 0
Parametric Highlights : 0
Parametric Shadow Split : 25
Parametric Midtone Split : 50
Parametric Highlight Split : 75
Sharpen Radius : +1.0
Sharpen Detail : 25
Sharpen Edge Masking : 0
Luminance Smoothing : 0
Color Noise Reduction : 25
Color Noise Reduction Detail : 50
Color Noise Reduction Smoothness : 50
Hue Adjustment Red : 0
Hue Adjustment Orange : 0
Hue Adjustment Yellow : 0
Hue Adjustment Green : 0
Hue Adjustment Aqua : 0
Hue Adjustment Blue : 0
Hue Adjustment Purple : 0
Hue Adjustment Magenta : 0
Saturation Adjustment Red : 0
Saturation Adjustment Orange : 0
Saturation Adjustment Yellow : 0
Saturation Adjustment Green : 0
Saturation Adjustment Aqua : 0
Saturation Adjustment Blue : 0
Saturation Adjustment Purple : 0
Saturation Adjustment Magenta : 0
Luminance Adjustment Red : 0
Luminance Adjustment Orange : 0
Luminance Adjustment Yellow : 0
Luminance Adjustment Green : 0
Luminance Adjustment Aqua : 0
Luminance Adjustment Blue : 0
Luminance Adjustment Purple : 0
Luminance Adjustment Magenta : 0
Split Toning Shadow Hue : 0
Split Toning Shadow Saturation : 0
Split Toning Highlight Hue : 0
Split Toning Highlight Saturation : 0
Split Toning Balance : 0
Color Grade Midtone Hue : 0
Color Grade Midtone Sat : 0
Color Grade Shadow Lum : 0
Color Grade Midtone Lum : 0
Color Grade Highlight Lum : 0
Color Grade Blending : 50
Color Grade Global Hue : 0
Color Grade Global Sat : 0
Color Grade Global Lum : 0
Auto Lateral CA : 0
Lens Profile Enable : 0
Lens Manual Distortion Amount : 0
Vignette Amount : 0
Defringe Purple Amount : 0
Defringe Purple Hue Lo : 30
Defringe Purple Hue Hi : 70
Defringe Green Amount : 0
Defringe Green Hue Lo : 40
Defringe Green Hue Hi : 60
Perspective Upright : Off
Perspective Vertical : 0
Perspective Horizontal : 0
Perspective Rotate : 0.0
Perspective Aspect : 0
Perspective Scale : 100
Perspective X : 0.00
Perspective Y : 0.00
Grain Amount : 0
Post Crop Vignette Amount : -10
Post Crop Vignette Midpoint : 50
Post Crop Vignette Feather : 50
Post Crop Vignette Roundness : 0
Post Crop Vignette Style : Highlight Priority
Post Crop Vignette Highlight Contrast : 0
Shadow Tint : 0
Red Hue : 0
Red Saturation : 0
Green Hue : 0
Green Saturation : 0
Blue Hue : 0
Blue Saturation : 0
Override Look Vignette : False
Tone Curve Name 2012 : Linear
Camera Profile : Adobe Standard
Has Settings : True
Crop Top : 0
Crop Left : 0
Crop Bottom : 1
Crop Right : 1
Crop Angle : 0
Crop Constrain To Warp : 0
Has Crop : False
Already Applied : True
Tone Curve PV2012 : 0, 0, 255, 255
Tone Curve PV2012 Red : 0, 0, 255, 255
Tone Curve PV2012 Green : 0, 0, 255, 255
Tone Curve PV2012 Blue : 0, 0, 255, 255
Look Name : Agfa Scala 200 ++
Look Amount : 1
Look Cluster : RNI
Look Group : RNI FILMS 5 BW - Pro
Look Parameters Version : 15.4
Look Parameters Process Version : 15.4
Look Parameters Contrast 2012 : +35
Look Parameters Highlights 2012 : -30
Look Parameters Shadows 2012 : +20
Look Parameters Whites 2012 : 0
Look Parameters Blacks 2012 : 0
Look Parameters Clarity 2012 : 0
Look Parameters Vibrance : 0
Look Parameters Saturation : -100
Look Parameters Parametric Shadows : -30
Look Parameters Parametric Darks : +60
Look Parameters Parametric Lights : 0
Look Parameters Parametric Highlights : 0
Look Parameters Parametric Shadow Split : 19
Look Parameters Parametric Midtone Split : 50
Look Parameters Parametric Highlight Split : 75
Look Parameters Hue Adjustment Red : 0
Look Parameters Hue Adjustment Orange : 0
Look Parameters Hue Adjustment Yellow : 0
Look Parameters Hue Adjustment Green : 0
Look Parameters Hue Adjustment Aqua : 0
Look Parameters Hue Adjustment Blue : 0
Look Parameters Hue Adjustment Purple : 0
Look Parameters Hue Adjustment Magenta : 0
Look Parameters Saturation Adjustment Red : 0
Look Parameters Saturation Adjustment Orange : 0
Look Parameters Saturation Adjustment Yellow : 0
Look Parameters Saturation Adjustment Green : 0
Look Parameters Saturation Adjustment Aqua : 0
Look Parameters Saturation Adjustment Blue : 0
Look Parameters Saturation Adjustment Purple : 0
Look Parameters Saturation Adjustment Magenta : 0
Look Parameters Luminance Adjustment Red : 0
Look Parameters Luminance Adjustment Orange : 0
Look Parameters Luminance Adjustment Yellow : 0
Look Parameters Luminance Adjustment Green : 0
Look Parameters Luminance Adjustment Aqua : 0
Look Parameters Luminance Adjustment Blue : 0
Look Parameters Luminance Adjustment Purple : 0
Look Parameters Luminance Adjustment Magenta : 0
Look Parameters Split Toning Shadow Hue : 0
Look Parameters Split Toning Shadow Saturation : 0
Look Parameters Split Toning Highlight Hue : 0
Look Parameters Split Toning Highlight Saturation : 0
Look Parameters Split Toning Balance : 0
Look Parameters Color Grade Midtone Hue : 0
Look Parameters Color Grade Midtone Sat : 0
Look Parameters Color Grade Shadow Lum : 0
Look Parameters Color Grade Midtone Lum : 0
Look Parameters Color Grade Highlight Lum : 0
Look Parameters Color Grade Blending : 50
Look Parameters Color Grade Global Hue : 0
Look Parameters Color Grade Global Sat : 0
Look Parameters Color Grade Global Lum : 0
Look Parameters Convert To Grayscale : False
Look Parameters RGB Table : 181393592EC0D5FE627AD901A8751DDC
Look Parameters Tone Curve PV2012 : 0, 0, 255, 255
Look Parameters Tone Curve PV2012 Red : 0, 0, 255, 255
Look Parameters Tone Curve PV2012 Green : 0, 0, 255, 255
Look Parameters Tone Curve PV2012 Blue : 0, 0, 255, 255
Image Width : 267
Image Height : 400
Bits Per Sample : 8
Color Components : 3
Image Size : 267x400
Megapixels : 0.107
Scale Factor To 35 mm Equivalent : 20.7
Shutter Speed : 1/80
Create Date : 2023:07:08 18:02:46.25+02:00
Date/Time Original : 2023:07:08 18:02:46.25+02:00
Modify Date : 2023:07:29 23:41:10+03:00
Circle Of Confusion : 0.001 mm
Lens ID : 0.0mm f/0.0