Uber Exif Photo
By-line : JORGE TORRALBB
Copyright Notice : JORGE TORRALBA
Make : NIKON CORPORATION
Camera Model Name : NIKON D5
Software : Adobe Photoshop Lightroom 6.5 (Windows)
Modify Date : 2016:05:13 08:30:48
Artist : JORGE TORRALBB
Copyright : JORGE TORRALBA
Exposure Time : 1/800
F Number : 3.2
Exposure Program : Aperture-priority AE
ISO : 100
Sensitivity Type : Recommended Exposure Index
Date/Time Original : 2016:04:26 12:42:07
Create Date : 2016:04:26 12:42:07
Shutter Speed Value : 1/800
Aperture Value : 3.2
Exposure Compensation : 0
Max Aperture Value : 2.0
Metering Mode : Multi-segment
Light Source : Unknown
Flash : No Flash
Focal Length : 100.0 mm
Color Space : sRGB
Sensing Method : One-chip color area
Scene Type : Directly photographed
CFA Pattern : [Red,Green][Green,Blue]
Custom Rendered : Normal
Exposure Mode : Auto
White Balance : Auto
Focal Length In 35mm Format : 100 mm
Scene Capture Type : Standard
Gain Control : None
Contrast : Normal
Saturation : Normal
Sharpness : Normal
Subject Distance Range : Unknown
Serial Number : 3001670
Lens Info : 100mm f/2
Lens Model : Zeiss Milvus 2/100M ZF.2
Creator Tool : Adobe Photoshop Lightroom 6.5 (Windows)
Format : image/jpeg
Lens : Zeiss Milvus 2/100M ZF.2
Image Number : 748
Approximate Focus Distance : 4294967295
Date Created : 2016:04:26 12:42:07.37
Version : 9.5
Process Version : 6.7
Auto White Version : 134348800
Color Temperature : 4800
Tint : +9
Luminance Smoothing : 0
Color Noise Reduction : 25
Vignette Amount : 0
Shadow Tint : 0
Red Hue : 0
Red Saturation : 0
Green Hue : 0
Green Saturation : 0
Blue Hue : 0
Blue Saturation : 0
Gray Mixer Red : 0
Gray Mixer Orange : +29
Gray Mixer Yellow : +38
Gray Mixer Green : 0
Gray Mixer Aqua : 0
Gray Mixer Blue : -39
Gray Mixer Purple : 0
Gray Mixer Magenta : 0
Split Toning Shadow Hue : 0
Split Toning Shadow Saturation : 0
Split Toning Highlight Hue : 0
Split Toning Highlight Saturation : 0
Split Toning Balance : 0
Parametric Shadows : 0
Parametric Darks : 0
Parametric Lights : 0
Parametric Highlights : 0
Parametric Shadow Split : 25
Parametric Midtone Split : 50
Parametric Highlight Split : 75
Sharpen Radius : +1.0
Sharpen Detail : 25
Sharpen Edge Masking : 0
Post Crop Vignette Amount : -35
Post Crop Vignette Midpoint : 50
Post Crop Vignette Feather : 50
Post Crop Vignette Roundness : 0
Post Crop Vignette Style : Highlight Priority
Post Crop Vignette Highlight Contrast : 0
Grain Amount : 0
Color Noise Reduction Detail : 50
Color Noise Reduction Smoothness : 50
Lens Profile Enable : 0
Lens Manual Distortion Amount : 0
Perspective Vertical : 0
Perspective Horizontal : 0
Perspective Rotate : 0.0
Perspective Scale : 100
Perspective Aspect : 0
Perspective Upright : Off
Auto Lateral CA : 0
Exposure 2012 : -0.06
Contrast 2012 : +68
Highlights 2012 : -100
Shadows 2012 : +42
Whites 2012 : -3
Blacks 2012 : +60
Clarity 2012 : +36
Dehaze : 0
Tone Map Strength : 0
Convert To Grayscale : True
Tone Curve Name : Linear
Tone Curve Name 2012 : Linear
Camera Profile : Adobe Standard
Lens Profile Setup : LensDefaults
Has Settings : True
Crop Top : 0.016575
Crop Left : 0.004604
Crop Bottom : 0.983425
Crop Right : 0.995396
Crop Angle : -0.643768
Crop Constrain To Warp : 0
Has Crop : True
Already Applied : True
Creator : JORGE TORRALBB
Rights : JORGE TORRALBA
Tone Curve : 0, 0, 255, 255
Tone Curve Red : 0, 0, 255, 255
Tone Curve Green : 0, 0, 255, 255
Tone Curve Blue : 0, 0, 255, 255
Tone Curve PV2012 : 0, 0, 255, 255
Tone Curve PV2012 Red : 0, 0, 255, 255
Tone Curve PV2012 Green : 0, 0, 255, 255
Tone Curve PV2012 Blue : 0, 0, 255, 255
Paint Correction What : Correction
Paint Correction Amount : 1.000000
Paint Correction Active : true
Paint Correction Saturation : 0.000000
Paint Correction Sharpness : 0.000000
Paint Correction Brightness : 0.000000
Paint Correction Toning Hue : 233.000000
Paint Correction Toning Saturation : 0.000000
Paint Correction Exposure 2012 : 0.000000
Paint Correction Contrast 2012 : 0.000000
Paint Correction Highlights 2012 : 0.000000
Paint Correction Shadows 2012 : 0.297300
Paint Correction Whites 2012 : 0.000000
Paint Correction Blacks 2012 : 0.000000
Paint Correction Clarity 2012 : 0.000000
Paint Correction Dehaze : 0.000000
Paint Correction Luminance Noise : 0.000000
Paint Correction Moire : 0.000000
Paint Correction Defringe : 0.000000
Paint Correction Temperature : 0.000000
Paint Correction Tint : 0.000000
Paint Correction Mask What : Mask/Paint
Paint Correction Mask Value : 0.907000
Paint Correction Mask Radius : 0.041081
Paint Correction Mask Flow : 0.816000
Paint Correction Mask Center Weight : 0.098225
Image Width : 300
Image Height : 200
Bits Per Sample : 8
Color Components : 1
Aperture : 3.2
Image Size : 300x200
Megapixels : 0.060
Scale Factor To 35 mm Equivalent : 1.0
Shutter Speed : 1/800
Create Date : 2016:04:26 12:42:07.37
Date/Time Original : 2016:04:26 12:42:07.37
Circle Of Confusion : 0.030 mm
Depth Of Field : inf (104.01 m - inf)
Field Of View : 20.4 deg
Focal Length : 100.0 mm (35 mm equivalent: 100.0 mm)
Hyperfocal Distance : 104.01 m
Light Value : 13.0
Lens ID : Zeiss Milvus 100mm f/2 Macro