Uber Exif Photo
By-line : JORGE TORRALBB
Copyright Notice : JORGE TORRALBA
Make : NIKON CORPORATION
Camera Model Name : NIKON D5
Software : Adobe Photoshop Lightroom 6.5 (Windows)
Modify Date : 2016:04:18 18:38:54
Artist : JORGE TORRALBB
Copyright : JORGE TORRALBA
Exposure Time : 1/250
F Number : 2.0
Exposure Program : Aperture-priority AE
ISO : 500
Sensitivity Type : Recommended Exposure Index
Date/Time Original : 2016:04:18 18:27:52
Create Date : 2016:04:18 18:27:52
Shutter Speed Value : 1/250
Aperture Value : 2.0
Exposure Compensation : 0
Max Aperture Value : 2.0
Metering Mode : Multi-segment
Light Source : Unknown
Flash : No Flash
Focal Length : 200.0 mm
Color Space : sRGB
Sensing Method : One-chip color area
Scene Type : Directly photographed
CFA Pattern : [Red,Green][Green,Blue]
Custom Rendered : Normal
Exposure Mode : Auto
White Balance : Auto
Focal Length In 35mm Format : 200 mm
Scene Capture Type : Standard
Gain Control : None
Contrast : Normal
Saturation : Normal
Sharpness : Normal
Subject Distance Range : Unknown
Serial Number : 3001670
Lens Info : 200mm f/2
Creator Tool : Adobe Photoshop Lightroom 6.5 (Windows)
Format : image/jpeg
Image Number : 552
Approximate Focus Distance : 2.99
Date Created : 2016:04:18 18:27:52.54
Version : 9.5
Process Version : 6.7
Auto White Version : 134348800
Color Temperature : 5000
Tint : +15
Luminance Smoothing : 0
Color Noise Reduction : 25
Vignette Amount : 0
Shadow Tint : 0
Red Hue : 0
Red Saturation : 0
Green Hue : 0
Green Saturation : 0
Blue Hue : 0
Blue Saturation : 0
Gray Mixer Red : 0
Gray Mixer Orange : +29
Gray Mixer Yellow : +38
Gray Mixer Green : 0
Gray Mixer Aqua : 0
Gray Mixer Blue : -39
Gray Mixer Purple : 0
Gray Mixer Magenta : 0
Split Toning Shadow Hue : 0
Split Toning Shadow Saturation : 0
Split Toning Highlight Hue : 0
Split Toning Highlight Saturation : 0
Split Toning Balance : 0
Parametric Shadows : 0
Parametric Darks : 0
Parametric Lights : 0
Parametric Highlights : 0
Parametric Shadow Split : 25
Parametric Midtone Split : 50
Parametric Highlight Split : 75
Sharpen Radius : +1.0
Sharpen Detail : 25
Sharpen Edge Masking : 0
Post Crop Vignette Amount : -35
Post Crop Vignette Midpoint : 50
Post Crop Vignette Feather : 50
Post Crop Vignette Roundness : 0
Post Crop Vignette Style : Highlight Priority
Post Crop Vignette Highlight Contrast : 0
Grain Amount : 0
Color Noise Reduction Detail : 50
Color Noise Reduction Smoothness : 50
Lens Profile Enable : 0
Lens Manual Distortion Amount : 0
Perspective Vertical : 0
Perspective Horizontal : 0
Perspective Rotate : 0.0
Perspective Scale : 100
Perspective Aspect : 0
Perspective Upright : Off
Auto Lateral CA : 0
Exposure 2012 : +0.36
Contrast 2012 : +68
Highlights 2012 : -25
Shadows 2012 : +86
Whites 2012 : -53
Blacks 2012 : -25
Clarity 2012 : +36
Dehaze : 0
Tone Map Strength : 0
Convert To Grayscale : True
Tone Curve Name : Linear
Tone Curve Name 2012 : Linear
Camera Profile : Adobe Standard
Lens Profile Setup : LensDefaults
Has Settings : True
Has Crop : False
Already Applied : True
Creator : JORGE TORRALBB
Rights : JORGE TORRALBA
Tone Curve : 0, 0, 255, 255
Tone Curve Red : 0, 0, 255, 255
Tone Curve Green : 0, 0, 255, 255
Tone Curve Blue : 0, 0, 255, 255
Tone Curve PV2012 : 0, 0, 255, 255
Tone Curve PV2012 Red : 0, 0, 255, 255
Tone Curve PV2012 Green : 0, 0, 255, 255
Tone Curve PV2012 Blue : 0, 0, 255, 255
Image Width : 300
Image Height : 200
Bits Per Sample : 8
Color Components : 1
Aperture : 2.0
Image Size : 300x200
Megapixels : 0.060
Scale Factor To 35 mm Equivalent : 1.0
Shutter Speed : 1/250
Create Date : 2016:04:18 18:27:52.54
Date/Time Original : 2016:04:18 18:27:52.54
Circle Of Confusion : 0.030 mm
Depth Of Field : 0.03 m (2.98 - 3.00 m)
Field Of View : 10.3 deg
Focal Length : 200.0 mm (35 mm equivalent: 200.0 mm)
Hyperfocal Distance : 665.64 m
Light Value : 7.6
Lens ID : AF-S VR Nikkor 200mm f/2G IF-ED