Uber Exif Photo
By-line : JORGE TORRALBB
Copyright Notice : JORGE TORRALBA
Make : NIKON CORPORATION
Camera Model Name : NIKON D5
Software : Adobe Photoshop Lightroom 6.5 (Windows)
Modify Date : 2016:04:13 16:23:10
Artist : JORGE TORRALBB
Copyright : JORGE TORRALBA
Exposure Time : 1/250
F Number : 1.8
Exposure Program : Aperture-priority AE
ISO : 3200
Sensitivity Type : Recommended Exposure Index
Date/Time Original : 2016:04:13 12:17:06
Create Date : 2016:04:13 12:17:06
Shutter Speed Value : 1/250
Aperture Value : 1.8
Exposure Compensation : 0
Max Aperture Value : 1.7
Metering Mode : Multi-segment
Light Source : Unknown
Flash : No Flash
Focal Length : 35.0 mm
Color Space : sRGB
Sensing Method : One-chip color area
Scene Type : Directly photographed
CFA Pattern : [Red,Green][Green,Blue]
Custom Rendered : Normal
Exposure Mode : Auto
White Balance : Auto
Focal Length In 35mm Format : 52 mm
Scene Capture Type : Standard
Gain Control : Low gain up
Contrast : Normal
Saturation : Normal
Sharpness : Normal
Subject Distance Range : Unknown
Serial Number : 3001670
Lens Info : 35mm f/1.8
Creator Tool : Adobe Photoshop Lightroom 6.5 (Windows)
Format : image/jpeg
Image Number : 522
Approximate Focus Distance : 0.79
Date Created : 2016:04:13 12:17:06.56
Version : 9.5
Process Version : 6.7
Auto White Version : 134348800
Color Temperature : 3550
Tint : +8
Luminance Smoothing : 0
Color Noise Reduction : 25
Vignette Amount : 0
Shadow Tint : 0
Red Hue : 0
Red Saturation : 0
Green Hue : 0
Green Saturation : 0
Blue Hue : 0
Blue Saturation : 0
Gray Mixer Red : 0
Gray Mixer Orange : +29
Gray Mixer Yellow : +38
Gray Mixer Green : 0
Gray Mixer Aqua : 0
Gray Mixer Blue : -39
Gray Mixer Purple : 0
Gray Mixer Magenta : 0
Split Toning Shadow Hue : 0
Split Toning Shadow Saturation : 0
Split Toning Highlight Hue : 0
Split Toning Highlight Saturation : 0
Split Toning Balance : 0
Parametric Shadows : 0
Parametric Darks : 0
Parametric Lights : 0
Parametric Highlights : 0
Parametric Shadow Split : 25
Parametric Midtone Split : 50
Parametric Highlight Split : 75
Sharpen Radius : +1.0
Sharpen Detail : 25
Sharpen Edge Masking : 0
Post Crop Vignette Amount : -15
Post Crop Vignette Midpoint : 50
Post Crop Vignette Feather : 50
Post Crop Vignette Roundness : 0
Post Crop Vignette Style : Highlight Priority
Post Crop Vignette Highlight Contrast : 0
Grain Amount : 0
Color Noise Reduction Detail : 50
Color Noise Reduction Smoothness : 50
Lens Profile Enable : 0
Lens Manual Distortion Amount : 0
Perspective Vertical : 0
Perspective Horizontal : 0
Perspective Rotate : 0.0
Perspective Scale : 100
Perspective Aspect : 0
Perspective Upright : Off
Auto Lateral CA : 0
Exposure 2012 : +0.20
Contrast 2012 : +68
Highlights 2012 : -31
Shadows 2012 : +42
Whites 2012 : -60
Blacks 2012 : -25
Clarity 2012 : +36
Dehaze : 0
Tone Map Strength : 0
Convert To Grayscale : True
Tone Curve Name : Linear
Tone Curve Name 2012 : Linear
Camera Profile : Adobe Standard
Lens Profile Setup : LensDefaults
Has Settings : True
Crop Top : 0.079496
Crop Left : 0.022082
Crop Bottom : 0.920504
Crop Right : 0.977918
Crop Angle : -3.29511
Crop Constrain To Warp : 0
Has Crop : True
Already Applied : True
Creator : JORGE TORRALBB
Rights : JORGE TORRALBA
Tone Curve : 0, 0, 255, 255
Tone Curve Red : 0, 0, 255, 255
Tone Curve Green : 0, 0, 255, 255
Tone Curve Blue : 0, 0, 255, 255
Tone Curve PV2012 : 0, 0, 255, 255
Tone Curve PV2012 Red : 0, 0, 255, 255
Tone Curve PV2012 Green : 0, 0, 255, 255
Tone Curve PV2012 Blue : 0, 0, 255, 255
Image Width : 300
Image Height : 200
Bits Per Sample : 8
Color Components : 1
Aperture : 1.8
Image Size : 300x200
Megapixels : 0.060
Scale Factor To 35 mm Equivalent : 1.5
Shutter Speed : 1/250
Create Date : 2016:04:13 12:17:06.56
Date/Time Original : 2016:04:13 12:17:06.56
Circle Of Confusion : 0.020 mm
Depth Of Field : 0.04 m (0.77 - 0.81 m)
Field Of View : 38.2 deg
Focal Length : 35.0 mm (35 mm equivalent: 52.0 mm)
Hyperfocal Distance : 33.65 m
Light Value : 4.7
Lens ID : AF-S DX Nikkor 35mm f/1.8G